BEGIN:VCALENDAR
VERSION:2.0
PRODID:-//NASUCA - ECPv5.5.0.1//NONSGML v1.0//EN
CALSCALE:GREGORIAN
METHOD:PUBLISH
X-WR-CALNAME:NASUCA
X-ORIGINAL-URL:https://www.nasuca.org
X-WR-CALDESC:Events for NASUCA
BEGIN:VTIMEZONE
TZID:UTC
BEGIN:STANDARD
TZOFFSETFROM:+0000
TZOFFSETTO:+0000
TZNAME:UTC
DTSTART:20210101T000000
END:STANDARD
END:VTIMEZONE
BEGIN:VEVENT
DTSTART;VALUE=DATE:20210614
DTEND;VALUE=DATE:20210618
DTSTAMP:20210421T004244
CREATED:20210319T174659Z
LAST-MODIFIED:20210419T151617Z
UID:4894-1623628800-1623974399@www.nasuca.org
SUMMARY:2021 Virtual Mid Year Meeting
DESCRIPTION:June 14\, 15th & 17th\nRegistration Opening Soon\nAgenda Coming Soon\n  \nInterested in Becoming a Sponsor?\n \nDiamond Sponsorship $10\,000\n40 complimentary registrations\nAcknowledgement and link on conference webpage for the duration of the event\nPlatinum Sponsorship $5\,000\n20 complimentary registrations\nAcknowledgement and link on conference webpage for the duration of the event\nGold Sponsorship – $2\,500\n10 complimentary registration\nAcknowledgement and link on conference webpage for the duration of the event\nSilver Sponsor: $1\,500\n5 complimentary registrations\nAcknowledgement and link on conference webpage for the duration of the event\nBronze Sponsor – $500\n1 complimentary registration\nAcknowledgement and link on conference webpage for the duration of the event \nContact Nicole Haslup at nasuca@nasuca.org for more information \n*NASUCA Sponsorship Policy
URL:https://www.nasuca.org/event/2021-virtual-mid-year-meeting/
END:VEVENT
END:VCALENDAR